BEGIN:VCALENDAR
VERSION:2.0
PRODID:-//Tio Manuel - ECPv6.15.16//NONSGML v1.0//EN
CALSCALE:GREGORIAN
METHOD:PUBLISH
X-ORIGINAL-URL:https://tio-manuel.com
X-WR-CALDESC:Évènements pour Tio Manuel
REFRESH-INTERVAL;VALUE=DURATION:PT1H
X-Robots-Tag:noindex
X-PUBLISHED-TTL:PT1H
BEGIN:VTIMEZONE
TZID:Europe/Paris
BEGIN:DAYLIGHT
TZOFFSETFROM:+0100
TZOFFSETTO:+0200
TZNAME:CEST
DTSTART:20240331T010000
END:DAYLIGHT
BEGIN:STANDARD
TZOFFSETFROM:+0200
TZOFFSETTO:+0100
TZNAME:CET
DTSTART:20241027T010000
END:STANDARD
BEGIN:DAYLIGHT
TZOFFSETFROM:+0100
TZOFFSETTO:+0200
TZNAME:CEST
DTSTART:20250330T010000
END:DAYLIGHT
BEGIN:STANDARD
TZOFFSETFROM:+0200
TZOFFSETTO:+0100
TZNAME:CET
DTSTART:20251026T010000
END:STANDARD
BEGIN:DAYLIGHT
TZOFFSETFROM:+0100
TZOFFSETTO:+0200
TZNAME:CEST
DTSTART:20260329T010000
END:DAYLIGHT
BEGIN:STANDARD
TZOFFSETFROM:+0200
TZOFFSETTO:+0100
TZNAME:CET
DTSTART:20261025T010000
END:STANDARD
END:VTIMEZONE
BEGIN:VEVENT
DTSTART;TZID=Europe/Paris:20250426T203000
DTEND;TZID=Europe/Paris:20250426T223000
DTSTAMP:20260420T092704
CREATED:20250219T090207Z
LAST-MODIFIED:20250219T090207Z
UID:8813-1745699400-1745706600@tio-manuel.com
SUMMARY:Tio Manuel A LA MAISON DU BLUES
DESCRIPTION:2e passage à la Maison du blues pour le groupe. \nManu Castillo\, Chant\, guitare\, Harmonica\nGilles Fegeant\, résonateur\, guitare\nRudy Serairi\, Basse et choeurs\nLuc Durand\, Batterie et choeurs
URL:https://tio-manuel.com/concert/tio-manuel-a-la-maison-du-blues/
LOCATION:La Maison du Blues\, 42 Rue du 11 Novembre 1918\, Châtres sur Cher\, 41320\, France
END:VEVENT
END:VCALENDAR