BEGIN:VCALENDAR
VERSION:2.0
PRODID:-//Tio Manuel - ECPv6.15.16//NONSGML v1.0//EN
CALSCALE:GREGORIAN
METHOD:PUBLISH
X-ORIGINAL-URL:https://tio-manuel.com
X-WR-CALDESC:Évènements pour Tio Manuel
REFRESH-INTERVAL;VALUE=DURATION:PT1H
X-Robots-Tag:noindex
X-PUBLISHED-TTL:PT1H
BEGIN:VTIMEZONE
TZID:Europe/Paris
BEGIN:DAYLIGHT
TZOFFSETFROM:+0100
TZOFFSETTO:+0200
TZNAME:CEST
DTSTART:20240331T010000
END:DAYLIGHT
BEGIN:STANDARD
TZOFFSETFROM:+0200
TZOFFSETTO:+0100
TZNAME:CET
DTSTART:20241027T010000
END:STANDARD
BEGIN:DAYLIGHT
TZOFFSETFROM:+0100
TZOFFSETTO:+0200
TZNAME:CEST
DTSTART:20250330T010000
END:DAYLIGHT
BEGIN:STANDARD
TZOFFSETFROM:+0200
TZOFFSETTO:+0100
TZNAME:CET
DTSTART:20251026T010000
END:STANDARD
BEGIN:DAYLIGHT
TZOFFSETFROM:+0100
TZOFFSETTO:+0200
TZNAME:CEST
DTSTART:20260329T010000
END:DAYLIGHT
BEGIN:STANDARD
TZOFFSETFROM:+0200
TZOFFSETTO:+0100
TZNAME:CET
DTSTART:20261025T010000
END:STANDARD
END:VTIMEZONE
BEGIN:VEVENT
DTSTART;TZID=Europe/Paris:20250821T183000
DTEND;TZID=Europe/Paris:20250821T210000
DTSTAMP:20260420T033551
CREATED:20250811T075829Z
LAST-MODIFIED:20250814T163631Z
UID:8843-1755801000-1755810000@tio-manuel.com
SUMMARY:DOS TIOS A LA CAVE FREHEL
DESCRIPTION:DOS TIOS\, Manu et Gilles à la cave en acoustique .
URL:https://tio-manuel.com/concert/dos-tios-a-la-cave-frehel/
LOCATION:La cave d’Est en ouest\, 7 allée des arcades\, Fréhel\, 22240
END:VEVENT
END:VCALENDAR