BEGIN:VCALENDAR
VERSION:2.0
PRODID:-//Tio Manuel - ECPv6.15.16//NONSGML v1.0//EN
CALSCALE:GREGORIAN
METHOD:PUBLISH
X-ORIGINAL-URL:https://tio-manuel.com
X-WR-CALDESC:Évènements pour Tio Manuel
REFRESH-INTERVAL;VALUE=DURATION:PT1H
X-Robots-Tag:noindex
X-PUBLISHED-TTL:PT1H
BEGIN:VTIMEZONE
TZID:Europe/Paris
BEGIN:DAYLIGHT
TZOFFSETFROM:+0100
TZOFFSETTO:+0200
TZNAME:CEST
DTSTART:20240331T010000
END:DAYLIGHT
BEGIN:STANDARD
TZOFFSETFROM:+0200
TZOFFSETTO:+0100
TZNAME:CET
DTSTART:20241027T010000
END:STANDARD
BEGIN:DAYLIGHT
TZOFFSETFROM:+0100
TZOFFSETTO:+0200
TZNAME:CEST
DTSTART:20250330T010000
END:DAYLIGHT
BEGIN:STANDARD
TZOFFSETFROM:+0200
TZOFFSETTO:+0100
TZNAME:CET
DTSTART:20251026T010000
END:STANDARD
BEGIN:DAYLIGHT
TZOFFSETFROM:+0100
TZOFFSETTO:+0200
TZNAME:CEST
DTSTART:20260329T010000
END:DAYLIGHT
BEGIN:STANDARD
TZOFFSETFROM:+0200
TZOFFSETTO:+0100
TZNAME:CET
DTSTART:20261025T010000
END:STANDARD
END:VTIMEZONE
BEGIN:VEVENT
DTSTART;TZID=Europe/Paris:20251004T190000
DTEND;TZID=Europe/Paris:20251004T233000
DTSTAMP:20260420T015924
CREATED:20250621T071329Z
LAST-MODIFIED:20251108T115116Z
UID:8834-1759604400-1759620600@tio-manuel.com
SUMMARY:FESTIVAL BAR 2025
DESCRIPTION:2e passage au festival Blues d’Automne en Rabelaisie pour le groupe. \nManu Castillo\, Chant\, Guitare \nGilles Fegeant\, Guitare \nRudy Serairi\, Basse \nChristophe Gaillot\, Batterie
URL:https://tio-manuel.com/concert/festival-bar-2025/
LOCATION:Festival Bar\, Salle polyvalente – Rue du Parc\, Beaumont en veron\, 37420
CATEGORIES:Festival
END:VEVENT
END:VCALENDAR