BEGIN:VCALENDAR
VERSION:2.0
PRODID:-//Tio Manuel - ECPv6.15.16//NONSGML v1.0//EN
CALSCALE:GREGORIAN
METHOD:PUBLISH
X-ORIGINAL-URL:https://tio-manuel.com
X-WR-CALDESC:Évènements pour Tio Manuel
REFRESH-INTERVAL;VALUE=DURATION:PT1H
X-Robots-Tag:noindex
X-PUBLISHED-TTL:PT1H
BEGIN:VTIMEZONE
TZID:Europe/Paris
BEGIN:DAYLIGHT
TZOFFSETFROM:+0100
TZOFFSETTO:+0200
TZNAME:CEST
DTSTART:20250330T010000
END:DAYLIGHT
BEGIN:STANDARD
TZOFFSETFROM:+0200
TZOFFSETTO:+0100
TZNAME:CET
DTSTART:20251026T010000
END:STANDARD
BEGIN:DAYLIGHT
TZOFFSETFROM:+0100
TZOFFSETTO:+0200
TZNAME:CEST
DTSTART:20260329T010000
END:DAYLIGHT
BEGIN:STANDARD
TZOFFSETFROM:+0200
TZOFFSETTO:+0100
TZNAME:CET
DTSTART:20261025T010000
END:STANDARD
BEGIN:DAYLIGHT
TZOFFSETFROM:+0100
TZOFFSETTO:+0200
TZNAME:CEST
DTSTART:20270328T010000
END:DAYLIGHT
BEGIN:STANDARD
TZOFFSETFROM:+0200
TZOFFSETTO:+0100
TZNAME:CET
DTSTART:20271031T010000
END:STANDARD
END:VTIMEZONE
BEGIN:VEVENT
DTSTART;TZID=Europe/Paris:20260820T193000
DTEND;TZID=Europe/Paris:20260820T230000
DTSTAMP:20260419T212715
CREATED:20260327T120520Z
LAST-MODIFIED:20260327T120520Z
UID:9045-1787254200-1787266800@tio-manuel.com
SUMMARY:DOS TIOS AU CALM 35
DESCRIPTION:Dos tios\, Manu Castillo et Gilles Fegeant en version électro-acoustique.
URL:https://tio-manuel.com/concert/dos-tios-au-calm-35/
LOCATION:CALM 35\, 19 rue des étangs\, La Chapelle aux Filtzméens\, 35190\, France
END:VEVENT
END:VCALENDAR