BEGIN:VCALENDAR
VERSION:2.0
PRODID:-//Tio Manuel - ECPv6.15.16//NONSGML v1.0//EN
CALSCALE:GREGORIAN
METHOD:PUBLISH
X-ORIGINAL-URL:https://tio-manuel.com
X-WR-CALDESC:Évènements pour Tio Manuel
REFRESH-INTERVAL;VALUE=DURATION:PT1H
X-Robots-Tag:noindex
X-PUBLISHED-TTL:PT1H
BEGIN:VTIMEZONE
TZID:Europe/Paris
BEGIN:DAYLIGHT
TZOFFSETFROM:+0100
TZOFFSETTO:+0200
TZNAME:CEST
DTSTART:20230326T010000
END:DAYLIGHT
BEGIN:STANDARD
TZOFFSETFROM:+0200
TZOFFSETTO:+0100
TZNAME:CET
DTSTART:20231029T010000
END:STANDARD
BEGIN:DAYLIGHT
TZOFFSETFROM:+0100
TZOFFSETTO:+0200
TZNAME:CEST
DTSTART:20240331T010000
END:DAYLIGHT
BEGIN:STANDARD
TZOFFSETFROM:+0200
TZOFFSETTO:+0100
TZNAME:CET
DTSTART:20241027T010000
END:STANDARD
BEGIN:DAYLIGHT
TZOFFSETFROM:+0100
TZOFFSETTO:+0200
TZNAME:CEST
DTSTART:20250330T010000
END:DAYLIGHT
BEGIN:STANDARD
TZOFFSETFROM:+0200
TZOFFSETTO:+0100
TZNAME:CET
DTSTART:20251026T010000
END:STANDARD
END:VTIMEZONE
BEGIN:VEVENT
DTSTART;TZID=Europe/Paris:20240828T200000
DTEND;TZID=Europe/Paris:20240828T220000
DTSTAMP:20260420T181206
CREATED:20240529T083318Z
LAST-MODIFIED:20240529T083318Z
UID:8777-1724875200-1724882400@tio-manuel.com
SUMMARY:DOS TIOS A LA VAGABONDE
DESCRIPTION:Tio Manuel et Gilles Fegeant\, en electro acoustique à la vagabonde.
URL:https://tio-manuel.com/concert/dos-tios-a-la-vagabonde/
LOCATION:LA VAGABONDE\, 9 RUE AMIRAL CHARNER\, PLENEUF VAL ANDRÉ\, 22370
END:VEVENT
BEGIN:VEVENT
DTSTART;TZID=Europe/Paris:20240829T080000
DTEND;TZID=Europe/Paris:20240829T170000
DTSTAMP:20260420T181206
CREATED:20240529T083536Z
LAST-MODIFIED:20240529T083536Z
UID:8781-1724918400-1724950800@tio-manuel.com
SUMMARY:DOS TIOS A LA TRINQUETTE
DESCRIPTION:Tio Manuel et Gilles Fegeant en Duo Electro Acoustique à la Trinquette\, Rennes.
URL:https://tio-manuel.com/concert/dos-tios-a-la-trinquette/
LOCATION:LA TRINQUETTE\, 26 RUE ST MALO\, RENNES\, 35000
END:VEVENT
BEGIN:VEVENT
DTSTART;TZID=Europe/Paris:20240830T190000
DTEND;TZID=Europe/Paris:20240830T220000
DTSTAMP:20260420T181206
CREATED:20240629T073149Z
LAST-MODIFIED:20240629T073149Z
UID:8784-1725044400-1725055200@tio-manuel.com
SUMMARY:Dos Tios à L'auberge by St Mich
DESCRIPTION:Manu Castillo Guitare\, Chant \nGilles Fegeant\, Guitare\, Dobro \nSet électro-acoustique
URL:https://tio-manuel.com/concert/dos-tios-a-lauberge-by-st-mich/
LOCATION:L’AUBERGE BY ST MICH\, ROND POINT DE LA CROIX DES LANDES\, SAINT-ALBAN\, 22400
END:VEVENT
END:VCALENDAR