BEGIN:VCALENDAR
VERSION:2.0
PRODID:-//Tio Manuel - ECPv6.15.16//NONSGML v1.0//EN
CALSCALE:GREGORIAN
METHOD:PUBLISH
X-ORIGINAL-URL:https://tio-manuel.com
X-WR-CALDESC:Évènements pour Tio Manuel
REFRESH-INTERVAL;VALUE=DURATION:PT1H
X-Robots-Tag:noindex
X-PUBLISHED-TTL:PT1H
BEGIN:VTIMEZONE
TZID:Europe/Paris
BEGIN:DAYLIGHT
TZOFFSETFROM:+0100
TZOFFSETTO:+0200
TZNAME:CEST
DTSTART:20250330T010000
END:DAYLIGHT
BEGIN:STANDARD
TZOFFSETFROM:+0200
TZOFFSETTO:+0100
TZNAME:CET
DTSTART:20251026T010000
END:STANDARD
BEGIN:DAYLIGHT
TZOFFSETFROM:+0100
TZOFFSETTO:+0200
TZNAME:CEST
DTSTART:20260329T010000
END:DAYLIGHT
BEGIN:STANDARD
TZOFFSETFROM:+0200
TZOFFSETTO:+0100
TZNAME:CET
DTSTART:20261025T010000
END:STANDARD
BEGIN:DAYLIGHT
TZOFFSETFROM:+0100
TZOFFSETTO:+0200
TZNAME:CEST
DTSTART:20270328T010000
END:DAYLIGHT
BEGIN:STANDARD
TZOFFSETFROM:+0200
TZOFFSETTO:+0100
TZNAME:CET
DTSTART:20271031T010000
END:STANDARD
END:VTIMEZONE
BEGIN:VEVENT
DTSTART;TZID=Europe/Paris:20260705T190000
DTEND;TZID=Europe/Paris:20260705T233000
DTSTAMP:20260419T183409
CREATED:20260409T114321Z
LAST-MODIFIED:20260409T114321Z
UID:9054-1783278000-1783294200@tio-manuel.com
SUMMARY:MONTFORT BLUES ESTIVAL-GUINGUETTE
DESCRIPTION:Dans le cadre de la Guinguette de Montfort sur Meu. Concert de Tio Manuel Band.
URL:https://tio-manuel.com/concert/montfort-blues-estival-guinguette/
LOCATION:Montfort Blues Estival\, Parc Municipal\, Montfort sur Meu\, 35160\, France
END:VEVENT
END:VCALENDAR